BEGIN:VCALENDAR
VERSION:2.0
PRODID:-//Library Market//iCal Export//EN
BEGIN:VEVENT
SUMMARY:SUMMERWEEN: Watermelon Carving
UID:6879
DTSTAMP:20260420T045700Z
DTSTART:20260619T200000Z
DTEND:20260619T210000Z
LOCATION:2433 York St, Blue Island, IL 60406, United States
ROOM: Makerspace
DESCRIPTION:We love Halloween so much, we want to do it twice a year! Join
  us for Summerween Watermelon Carving; you will take your finished/carved 
 watermelon and watermelon insides home with you. This is an all-ages event
 , children under 12 must be accompanied by an adult. 
URL:https://blueislandpl.librarycalendar.com/event/summerween-watermelon-c
 arving-6879
END:VEVENT
END:VCALENDAR
