BEGIN:VCALENDAR
VERSION:2.0
PRODID:-//Library Market//iCal Export//EN
BEGIN:VEVENT
SUMMARY:Slime Circuits
UID:6885
DTSTAMP:20260425T212800Z
DTSTART:20260610T200000Z
DTEND:20260610T210000Z
LOCATION:2433 York St, Blue Island, IL 60406, United States
ROOM: During Maker Hours
DESCRIPTION:Concoct a batch of colorful, conductive slime. Engineer a basi
 c circuit, using your slime as a conductor to light up an LED (and a love 
 of science!). Then conduct a series of electric experiments that showcase 
 the science of switches, resistance, LED color-mixing, and more! Explore t
 he science of polymers — all while having a slimy good time! You also ge
 t to keep your creation! Registration is required! 
URL:https://blueislandpl.librarycalendar.com/event/slime-circuits-6885
END:VEVENT
END:VCALENDAR
