BEGIN:VCALENDAR
VERSION:2.0
PRODID:-//Library Market//iCal Export//EN
BEGIN:VEVENT
SUMMARY:Party in the Park
UID:6893
DTSTAMP:20260420T045700Z
DTSTART:20260829T170000Z
DTEND:20260829T200000Z
LOCATION:2433 York St, Blue Island, IL 60406, United States
ROOM: Party in the Park
DESCRIPTION:Join us for our annual Party in the Park in cooperation with t
 he Blue Island Park District! Located at the park at York &amp; Western fr
 om 12PM - 3PM. No registration required!
URL:https://blueislandpl.librarycalendar.com/event/party-park-6893
END:VEVENT
END:VCALENDAR
