BEGIN:VCALENDAR
VERSION:2.0
PRODID:-//Library Market//iCal Export//EN
BEGIN:VEVENT
SUMMARY:Toddler Time: Splashpad Playdate
UID:6934
DTSTAMP:20260423T031300Z
DTSTART:20260716T160000Z
DTEND:20260716T170000Z
LOCATION:2433 York St, Blue Island, IL 60406, United States
ROOM: Toddler Time: Splashpad Playdate
DESCRIPTION:Join Ms. Jamie at the Memorial Park Splash Pad to socialize wi
 th other families and enjoy the water! Child must be prepared to get wet, 
 sunscreen recommended. Ages 1-4 ONLY, please register to participate!
URL:https://blueislandpl.librarycalendar.com/event/toddler-time-splashpad-
 playdate-6934
END:VEVENT
END:VCALENDAR
